BEGIN:VCALENDAR
VERSION:2.0
PRODID:-// - ECPv6.15.20//NONSGML v1.0//EN
CALSCALE:GREGORIAN
METHOD:PUBLISH
X-ORIGINAL-URL:https://eiss-norge.no
X-WR-CALDESC:Arrangement for 
REFRESH-INTERVAL;VALUE=DURATION:PT1H
X-Robots-Tag:noindex
X-PUBLISHED-TTL:PT1H
BEGIN:VTIMEZONE
TZID:Europe/Oslo
BEGIN:DAYLIGHT
TZOFFSETFROM:+0100
TZOFFSETTO:+0200
TZNAME:CEST
DTSTART:20240331T010000
END:DAYLIGHT
BEGIN:STANDARD
TZOFFSETFROM:+0200
TZOFFSETTO:+0100
TZNAME:CET
DTSTART:20241027T010000
END:STANDARD
BEGIN:DAYLIGHT
TZOFFSETFROM:+0100
TZOFFSETTO:+0200
TZNAME:CEST
DTSTART:20250330T010000
END:DAYLIGHT
BEGIN:STANDARD
TZOFFSETFROM:+0200
TZOFFSETTO:+0100
TZNAME:CET
DTSTART:20251026T010000
END:STANDARD
BEGIN:DAYLIGHT
TZOFFSETFROM:+0100
TZOFFSETTO:+0200
TZNAME:CEST
DTSTART:20260329T010000
END:DAYLIGHT
BEGIN:STANDARD
TZOFFSETFROM:+0200
TZOFFSETTO:+0100
TZNAME:CET
DTSTART:20261025T010000
END:STANDARD
BEGIN:DAYLIGHT
TZOFFSETFROM:+0100
TZOFFSETTO:+0200
TZNAME:CEST
DTSTART:20270328T010000
END:DAYLIGHT
BEGIN:STANDARD
TZOFFSETFROM:+0200
TZOFFSETTO:+0100
TZNAME:CET
DTSTART:20271031T010000
END:STANDARD
END:VTIMEZONE
BEGIN:VTIMEZONE
TZID:Europe/Paris
BEGIN:DAYLIGHT
TZOFFSETFROM:+0100
TZOFFSETTO:+0200
TZNAME:CEST
DTSTART:20140330T010000
END:DAYLIGHT
BEGIN:STANDARD
TZOFFSETFROM:+0200
TZOFFSETTO:+0100
TZNAME:CET
DTSTART:20141026T010000
END:STANDARD
BEGIN:DAYLIGHT
TZOFFSETFROM:+0100
TZOFFSETTO:+0200
TZNAME:CEST
DTSTART:20150329T010000
END:DAYLIGHT
BEGIN:STANDARD
TZOFFSETFROM:+0200
TZOFFSETTO:+0100
TZNAME:CET
DTSTART:20151025T010000
END:STANDARD
BEGIN:DAYLIGHT
TZOFFSETFROM:+0100
TZOFFSETTO:+0200
TZNAME:CEST
DTSTART:20160327T010000
END:DAYLIGHT
BEGIN:STANDARD
TZOFFSETFROM:+0200
TZOFFSETTO:+0100
TZNAME:CET
DTSTART:20161030T010000
END:STANDARD
BEGIN:DAYLIGHT
TZOFFSETFROM:+0100
TZOFFSETTO:+0200
TZNAME:CEST
DTSTART:20170326T010000
END:DAYLIGHT
BEGIN:STANDARD
TZOFFSETFROM:+0200
TZOFFSETTO:+0100
TZNAME:CET
DTSTART:20171029T010000
END:STANDARD
BEGIN:DAYLIGHT
TZOFFSETFROM:+0100
TZOFFSETTO:+0200
TZNAME:CEST
DTSTART:20180325T010000
END:DAYLIGHT
BEGIN:STANDARD
TZOFFSETFROM:+0200
TZOFFSETTO:+0100
TZNAME:CET
DTSTART:20181028T010000
END:STANDARD
BEGIN:DAYLIGHT
TZOFFSETFROM:+0100
TZOFFSETTO:+0200
TZNAME:CEST
DTSTART:20190331T010000
END:DAYLIGHT
BEGIN:STANDARD
TZOFFSETFROM:+0200
TZOFFSETTO:+0100
TZNAME:CET
DTSTART:20191027T010000
END:STANDARD
BEGIN:DAYLIGHT
TZOFFSETFROM:+0100
TZOFFSETTO:+0200
TZNAME:CEST
DTSTART:20200329T010000
END:DAYLIGHT
BEGIN:STANDARD
TZOFFSETFROM:+0200
TZOFFSETTO:+0100
TZNAME:CET
DTSTART:20201025T010000
END:STANDARD
BEGIN:DAYLIGHT
TZOFFSETFROM:+0100
TZOFFSETTO:+0200
TZNAME:CEST
DTSTART:20210328T010000
END:DAYLIGHT
BEGIN:STANDARD
TZOFFSETFROM:+0200
TZOFFSETTO:+0100
TZNAME:CET
DTSTART:20211031T010000
END:STANDARD
BEGIN:DAYLIGHT
TZOFFSETFROM:+0100
TZOFFSETTO:+0200
TZNAME:CEST
DTSTART:20220327T010000
END:DAYLIGHT
BEGIN:STANDARD
TZOFFSETFROM:+0200
TZOFFSETTO:+0100
TZNAME:CET
DTSTART:20221030T010000
END:STANDARD
BEGIN:DAYLIGHT
TZOFFSETFROM:+0100
TZOFFSETTO:+0200
TZNAME:CEST
DTSTART:20230326T010000
END:DAYLIGHT
BEGIN:STANDARD
TZOFFSETFROM:+0200
TZOFFSETTO:+0100
TZNAME:CET
DTSTART:20231029T010000
END:STANDARD
BEGIN:DAYLIGHT
TZOFFSETFROM:+0100
TZOFFSETTO:+0200
TZNAME:CEST
DTSTART:20240331T010000
END:DAYLIGHT
BEGIN:STANDARD
TZOFFSETFROM:+0200
TZOFFSETTO:+0100
TZNAME:CET
DTSTART:20241027T010000
END:STANDARD
BEGIN:DAYLIGHT
TZOFFSETFROM:+0100
TZOFFSETTO:+0200
TZNAME:CEST
DTSTART:20250330T010000
END:DAYLIGHT
BEGIN:STANDARD
TZOFFSETFROM:+0200
TZOFFSETTO:+0100
TZNAME:CET
DTSTART:20251026T010000
END:STANDARD
END:VTIMEZONE
BEGIN:VEVENT
DTSTART;TZID=Europe/Oslo:20260327T090000
DTEND;TZID=Europe/Oslo:20260327T103000
DTSTAMP:20260421T160731
CREATED:20260311T151955Z
LAST-MODIFIED:20260311T151955Z
UID:543-1774602000-1774607400@eiss-norge.no
SUMMARY:Årsmøte i EISS Norge 
DESCRIPTION:EISS Norge avholder årsmøte fredag 27. mars kl 9 – 10.30 i NHOs lokaler i Middelthuns gate 27\, Oslo. \nFaglig tema vil være konseptet Storebrand Vel ved Anne-Line Jorsett\, fagansvarlig lege forebyggende team Storebrand Livsforsikring AS. \nDet har i den senere tid kommet ulike konsepter fra pensjonsleverandørene med formål å forebygge sykefravær og uførhet\, og hjelpe ansatte til å bli værende eller komme raskere tilbake til arbeidsplassen. Vi vil i møtet høre mer om hvordan Storebrand har tenkt\, og hvordan de jobber. \nDagsorden årsmøte: \n\nValg av møteleder og referent\nStyrets beretning 2025\nRegnskap 2025\nFastsetting av kontingent for 2026\nValg av styre\, revisor og valgkomité\nForslag til nye medlemmer\nAndre innkomne forslag\nValg\nEventuelt
URL:https://eiss-norge.no/mote/arsmote-i-eiss-norge/
LOCATION:NHO\, Middelthuns gate 27\, Oslo\, Norge
END:VEVENT
BEGIN:VEVENT
DTSTART;TZID=Europe/Oslo:20251119T090000
DTEND;TZID=Europe/Oslo:20251119T103000
DTSTAMP:20260421T160731
CREATED:20251016T134904Z
LAST-MODIFIED:20251017T105404Z
UID:535-1763542800-1763548200@eiss-norge.no
SUMMARY:Tillitsreformforsøket Et enklere Nav
DESCRIPTION:Forsøket Et enklere Nav utvikles med utgangspunkt i et nasjonalt behov og et nasjonalt perspektiv som tar tak i grunnleggende utfordringer knyttet til helserelaterte ytelser for unge. Ideen til forsøket springer ut fra lokale behov\, sett fra både stat og kommune i Trondheim. Et enklere Nav er et forslag til ny ytelse med tett oppfølging fra Nav for unge 18-30 uten helserelaterte inngangsvilkår. Ytelsen skal erstatte øvrige ytelser for unge med unntak av sykepenger og sosialhjelp. Ytelsen understøttes av arbeidsrettet oppfølging fra Nav\, og målet er jobb eller utdanning.  Forsøket starter opp september 2026\, og er planlagt å vare i fire år. \nInnledere fra NAV:\nSilje Andersen\, seniorrådgiver\nHeidi Dolven\, prosessleder \nArrangementet finner sted i KLPs lokaler i Dronning Eufemias gate 10.\nPåmelding senest 18. november kl 12.00.
URL:https://eiss-norge.no/mote/tillitsreformforsoket-et-enklere-nav/
LOCATION:KLP Dronning Eufemiasgate 10
END:VEVENT
BEGIN:VEVENT
DTSTART;TZID=Europe/Oslo:20250925T090000
DTEND;TZID=Europe/Oslo:20250925T103000
DTSTAMP:20260421T160731
CREATED:20250908T064537Z
LAST-MODIFIED:20251002T102537Z
UID:526-1758790800-1758796200@eiss-norge.no
SUMMARY:Etterlatteprodukter i forsikring
DESCRIPTION:Etterlattepensjon i folketrygden endres\, og tjenestepensjonsordningene har gått fra ytelsespensjon til innskuddspensjon. Hele pensjonssystemet går i retning av å bli mer individualisert. Hvorledes tilpasses forsikringsselskapenes etterlatteprodukter denne utviklingen\, og hvilke produkter etterspørres av virksomhetene? \nInnledere: Anne Marit Benterud\, Nordea og Berit Bjones\, Gjensidige \nMøtet finner sted i OsloMet sine lokaler i Stensberggaten 26\, i 2. etasje (Rindal-rommet (X239)). \nPresentasjon.
URL:https://eiss-norge.no/mote/etterlatteprodukter-i-forsikring/
LOCATION:OsloMet\, Stensberggaten 26\, Oslo\, Norway
END:VEVENT
BEGIN:VEVENT
DTSTART;TZID=Europe/Oslo:20250515T090000
DTEND;TZID=Europe/Oslo:20250515T110000
DTSTAMP:20260421T160731
CREATED:20250425T120015Z
LAST-MODIFIED:20250425T120845Z
UID:519-1747299600-1747306800@eiss-norge.no
SUMMARY:Årsmøte 2025
DESCRIPTION:EISS Norge avholder årsmøte torsdag 15 mai kl 9 – 11 i Fafos lokaler i Borggata 2B\, Oslo. \nFaglig tema vil være IA-avtalen. Innledere: \n\n\n\n\n\nRakel Solbu\, fagleder HMS/IA i forhandlings- og HMS-avdelingen\, LO\nAnne Louise Aartun Bye\, avdelingsdirektør Arbeidsliv\, NHO\nTrond Wetlesen Avdelingsdirektør for Arbeidsmarked\, NAV\n\n\n\nDagsorden årsmøte\n1. Valg av møteleder og referent\n2. Styrets beretning 2024\n3. Regnskap 2024\n4. Fastsetting av kontingent for 2025\n– forslag om økning fra kr 500 til kr 600 grunnet bidrag til EISS internasjonalt.\n5. Forslag til nye medlemmer\n6. Andre innkomne forslag\n7. Valg \nPåmelding til årsmøtet gjøres innen utgangen av tirsdag 13.mai 2025. \nVelkommen!\nMed vennlig hilsen Styret i EISS Norge
URL:https://eiss-norge.no/mote/arsmote-2025/
LOCATION:Fafo\, Borggata 2b
END:VEVENT
BEGIN:VEVENT
DTSTART;TZID=Europe/Oslo:20250203T140000
DTEND;TZID=Europe/Oslo:20250203T153000
DTSTAMP:20260421T160731
CREATED:20250117T144935Z
LAST-MODIFIED:20250117T145506Z
UID:516-1738591200-1738596600@eiss-norge.no
SUMMARY:Høring yrkessykdomslisten
DESCRIPTION:Tema for medlemsmøtet blir høring yrkessykdomslisten som hadde frist 21. oktober. \n\nForslag til ny yrkessykdomsliste\, og hvordan STAMI har jobbet faglig for å komme frem til denne v/ Karl-Christian Nordby\, Stami\nPresentasjon av høringsnotatet v/ Morten Gaarder/ Biørn Bogstad\, AID
URL:https://eiss-norge.no/mote/horing-yrkessykdomslisten/
LOCATION:NHO\, Middelthuns gate 27\, Oslo\, Norge
END:VEVENT
BEGIN:VEVENT
DTSTART;TZID=Europe/Paris:20240607T090000
DTEND;TZID=Europe/Paris:20240607T103000
DTSTAMP:20260421T160731
CREATED:20240531T070224Z
LAST-MODIFIED:20240610T131115Z
UID:500-1717750800-1717756200@eiss-norge.no
SUMMARY:Pensjon og arbeid i utland
DESCRIPTION:Foredragsholder: Martin Andresen\, NAV \nMartin vil presentere temaet på et overordnet nivå for både folketrygden og tjenestepensjon. \n• Hva skjer hvis en yrkesaktiv reiser til utlandet for å jobbe for norsk eller utenlandsk arbeidsgiver.\n• Hva skjer hvis en yrkesaktiv fra et annet land kommer til Norge for å jobbe. \nPåmeldingsfrist: Onsdag 5. juni kl 12.00. \nForedragsnotater: \n2024.06.07 Medlemsmøte – Pensjon og arbeid i utland – Martin Andresen\, NAV \n 
URL:https://eiss-norge.no/mote/pensjon-og-arbeid-i-utland/
LOCATION:LO\, Torggata 12\, Oslo\, Norge
END:VEVENT
BEGIN:VEVENT
DTSTART;TZID=Europe/Paris:20240315T110000
DTEND;TZID=Europe/Paris:20240315T130000
DTSTAMP:20260421T160731
CREATED:20240224T094412Z
LAST-MODIFIED:20240225T135436Z
UID:478-1710500400-1710507600@eiss-norge.no
SUMMARY:Årsmøte 2024
DESCRIPTION:2024 Innkalling til årsmøte 2024
URL:https://eiss-norge.no/mote/arsmote-2024/
LOCATION:NAV\, Helsfyr\, Fyrstikkalléen 1\, Oslo\, 0661\, Norge
END:VEVENT
BEGIN:VEVENT
DTSTART;TZID=Europe/Paris:20231117T110000
DTEND;TZID=Europe/Paris:20231117T123000
DTSTAMP:20260421T160731
CREATED:20231119T074204Z
LAST-MODIFIED:20240110T073607Z
UID:104-1700218800-1700224200@eiss-norge.no
SUMMARY:Nye etterlatteytelser i folketrygden fra nyttår
DESCRIPTION:Program: \n2023 11 17 Invitasjon medlemsmøte i EISS Norge \nForedragsnotater: \nEtterlatteytelsene i folketrygden\, EISS\, 17. november 2023
URL:https://eiss-norge.no/mote/nye-etterlatteytelser-i-folketrygden-fra-nyttar/
LOCATION:NHO\, Middelthuns gate 27\, Oslo\, Norge
END:VEVENT
BEGIN:VEVENT
DTSTART;TZID=Europe/Paris:20230609T113000
DTEND;TZID=Europe/Paris:20230609T130000
DTSTAMP:20260421T160731
CREATED:20231119T075419Z
LAST-MODIFIED:20231119T133826Z
UID:107-1686310200-1686315600@eiss-norge.no
SUMMARY:NOU 2022: 11 Raskt og riktig
DESCRIPTION:Program: \n2023 Invitasjon til medlemsmøte i EISS Norge 090623 \n\nForedragsnotater: \n2023 06 Foredrag EISS Hopsnes
URL:https://eiss-norge.no/mote/nou-2022-11-raskt-og-riktig/
LOCATION:Teams
END:VEVENT
BEGIN:VEVENT
DTSTART;TZID=Europe/Paris:20230323T110000
DTEND;TZID=Europe/Paris:20230323T130000
DTSTAMP:20260421T160731
CREATED:20231119T125735Z
LAST-MODIFIED:20231119T133652Z
UID:123-1679569200-1679576400@eiss-norge.no
SUMMARY:Årsmøte EISS 2023 og faglig tema
DESCRIPTION:Program: \nInnkalling til årsmøte 2023 \nForedragsnotater: \nFoiler fra Imran Haider \nFoiler fra Leif Erlend Johannessen
URL:https://eiss-norge.no/mote/arsmote-eiss-2023-og-faglig-tema/
LOCATION:Trygderetten
END:VEVENT
BEGIN:VEVENT
DTSTART;VALUE=DATE:20220902
DTEND;VALUE=DATE:20220903
DTSTAMP:20260421T160731
CREATED:20231119T130143Z
LAST-MODIFIED:20231119T133439Z
UID:128-1662076800-1662163199@eiss-norge.no
SUMMARY:NOU 2022:7 Et forbedret pensjonssystem
DESCRIPTION:Program: \n02.09.22 Invitasjon medlemsmøte i EISS Norge \n  \nForedragsnotater: \n2022 09 Innlegg fra Axel \n2022 09 Innlegg fra Roar
URL:https://eiss-norge.no/mote/nou-20227-et-forbedret-pensjonssystem/
LOCATION:NAV\, Helsfyr\, Fyrstikkalléen 1\, Oslo\, 0661\, Norge
END:VEVENT
BEGIN:VEVENT
DTSTART;VALUE=DATE:20220610
DTEND;VALUE=DATE:20220611
DTSTAMP:20260421T160731
CREATED:20231119T134308Z
LAST-MODIFIED:20231119T134340Z
UID:141-1654819200-1654905599@eiss-norge.no
SUMMARY:Seinkarrierer etter pensjonsreformen
DESCRIPTION:Program: \n2022 Invitasjon årsmøte i EISS Norge 2
URL:https://eiss-norge.no/mote/seinkarrierer-etter-pensjonsreformen/
LOCATION:Hos KLP\, Dronning Eufemias gata 10\, Oslo
END:VEVENT
BEGIN:VEVENT
DTSTART;TZID=Europe/Paris:20211022T123000
DTEND;TZID=Europe/Paris:20211022T140000
DTSTAMP:20260421T160731
CREATED:20231119T134729Z
LAST-MODIFIED:20240106T102135Z
UID:145-1634905800-1634911200@eiss-norge.no
SUMMARY:Nye aldersgrenser i staten og arbeid etter 67 år i offentlig tjenestepensjon
DESCRIPTION:Program: \n2021 10 22 Medlemsmøte \n  \nForedragsnotater: \n2021 10 22 Spekter \n2021 10 22 Kommentarer EISS
URL:https://eiss-norge.no/mote/nye-aldersgrenser-i-staten-og-arbeid-etter-67-ar-i-offentlig-tjenestepensjon/
END:VEVENT
BEGIN:VEVENT
DTSTART;TZID=Europe/Paris:20210625T090000
DTEND;TZID=Europe/Paris:20210625T103000
DTSTAMP:20260421T160731
CREATED:20240106T102807Z
LAST-MODIFIED:20240106T102807Z
UID:172-1624611600-1624617000@eiss-norge.no
SUMMARY:Utredning av en mulig reformert AFP-ordning i privat sektor
DESCRIPTION:Program: \n  \nForedragsnotater: \n2021 06 25 EISS – utredning mulig reformert afp modell – LO og NHO
URL:https://eiss-norge.no/mote/utredning-av-en-mulig-reformert-afp-ordning-i-privat-sektor/
LOCATION:Teams
END:VEVENT
BEGIN:VEVENT
DTSTART;TZID=Europe/Paris:20210312T114500
DTEND;TZID=Europe/Paris:20210312T133000
DTSTAMP:20260421T160731
CREATED:20240106T103946Z
LAST-MODIFIED:20240106T104058Z
UID:176-1615549500-1615555800@eiss-norge.no
SUMMARY:Årsmøte og faglig tema "Egen pensjonskonto"
DESCRIPTION:Program: \n2021 Årsmøte i EISS Norge \nForedragsnotater: \n2021 03 12 Egen pensjonskonto – Elgsaas \n2021 03 12 Egen pensjonskonto – Meldalen
URL:https://eiss-norge.no/mote/arsmote-og-faglig-tema-egen-pensjonskonto/
LOCATION:Teams
END:VEVENT
BEGIN:VEVENT
DTSTART;TZID=Europe/Paris:20201023T110000
DTEND;TZID=Europe/Paris:20201023T130000
DTSTAMP:20260421T160731
CREATED:20240106T104319Z
LAST-MODIFIED:20240106T104319Z
UID:181-1603450800-1603458000@eiss-norge.no
SUMMARY:Etter NOU 2020:9 Blindsonen: Hvor står diskusjonen om trygdeskandalen nå?
DESCRIPTION:Program: \n2020 Årsmøte i EISS Norge \nForedragsnotater: \n2020 10 23 Etter NOU 2020_Ikdahl \n2020 10 23 Blindsonen Nav
URL:https://eiss-norge.no/mote/etter-nou-20209-blindsonen-hvor-star-diskusjonen-om-trygdeskandalen-na/
LOCATION:Teams
END:VEVENT
BEGIN:VEVENT
DTSTART;TZID=Europe/Paris:20191122T110000
DTEND;TZID=Europe/Paris:20191122T130000
DTSTAMP:20260421T160731
CREATED:20240106T104648Z
LAST-MODIFIED:20240106T104648Z
UID:186-1574420400-1574427600@eiss-norge.no
SUMMARY:Alderspensjon til uføre
DESCRIPTION:Program: \n2019 11 22 Innkalling til medlemsmøte \nForedragsnotater: \n2019 11 22 Alderspensjon til uføre presentasjon EIIS 22112019 \n2019 11 22 Innlegg fra Sissel
URL:https://eiss-norge.no/mote/alderspensjon-til-ufore/
LOCATION:NAVs kontorer i Sannergata 2
END:VEVENT
BEGIN:VEVENT
DTSTART;TZID=Europe/Paris:20190614T110000
DTEND;TZID=Europe/Paris:20190614T130000
DTSTAMP:20260421T160731
CREATED:20240106T111115Z
LAST-MODIFIED:20240106T111115Z
UID:192-1560510000-1560517200@eiss-norge.no
SUMMARY:Sysselsettingutvalgets rapport
DESCRIPTION:Program: \nInvitasjon til medlemsmøte i EISS Norge 14.06.19 \nForedragsnotater:
URL:https://eiss-norge.no/mote/sysselsettingutvalgets-rapport/
LOCATION:Trygderetten\, Sandakerveien 130
END:VEVENT
BEGIN:VEVENT
DTSTART;TZID=Europe/Paris:20190329T110000
DTEND;TZID=Europe/Paris:20190329T130000
DTSTAMP:20260421T160731
CREATED:20240106T111342Z
LAST-MODIFIED:20240106T111342Z
UID:196-1553857200-1553864400@eiss-norge.no
SUMMARY:Årsmøte 2019
DESCRIPTION:Program: \nInnkalling til årsmøte 2019 \nForedragsnotater: \n 
URL:https://eiss-norge.no/mote/arsmote-2019/
LOCATION:Hos KLP\, Dronning Eufemias gata 10\, Oslo
END:VEVENT
BEGIN:VEVENT
DTSTART;TZID=Europe/Paris:20181116T110000
DTEND;TZID=Europe/Paris:20181116T130000
DTSTAMP:20260421T160731
CREATED:20240106T111552Z
LAST-MODIFIED:20240106T111552Z
UID:199-1542366000-1542373200@eiss-norge.no
SUMMARY:Ny offentlig tjenstepensjon - medlemsmøte 16. november 2018
DESCRIPTION:Program: \nInvitasjon til medlemsmøte 161118 \nForedragsnotater: \nFoiler medlemsmøte 2018 11 16 Aslaksen
URL:https://eiss-norge.no/mote/ny-offentlig-tjenstepensjon-medlemsmote-16-november-2018/
LOCATION:Statens Pensjonskasse\, Verkstedveien 1\, Oslo
END:VEVENT
BEGIN:VEVENT
DTSTART;TZID=Europe/Paris:20180531T140000
DTEND;TZID=Europe/Paris:20180531T170000
DTSTAMP:20260421T160731
CREATED:20240106T111922Z
LAST-MODIFIED:20240106T112228Z
UID:205-1527775200-1527786000@eiss-norge.no
SUMMARY:EISS Norge 30 år - jubileumsmøte og middag
DESCRIPTION:Program: \nInvitasjon til jubileumsmøte 31.05.18 \nForedragsnotater: \nJubileumskonferanse 2018 AWP \nJubileumskonferanse 2018 EG \nJubileumskonferanse 2018 KDM \nJubileumskonferanse 2018 SR \nJubileumskonferanse 2018 TM \nOpprinnelsen til EISS – Innledning EISS’ jubileumsmøte 31.5.2018
URL:https://eiss-norge.no/mote/eiss-norge-30-ar-jubileumsmote-og-middag/
LOCATION:Fafo\, Borggata 2b
END:VEVENT
BEGIN:VEVENT
DTSTART;TZID=Europe/Paris:20180313T110000
DTEND;TZID=Europe/Paris:20180313T130000
DTSTAMP:20260421T160731
CREATED:20240106T112706Z
LAST-MODIFIED:20240106T112706Z
UID:217-1520938800-1520946000@eiss-norge.no
SUMMARY:Årsmøte 2018
DESCRIPTION:Program: \nInnkalling til årsmøte 2018 \nForedragsnotater: \n 
URL:https://eiss-norge.no/mote/arsmote-2018/
LOCATION:Trygderetten\, Sandakerveien 130
END:VEVENT
BEGIN:VEVENT
DTSTART;TZID=Europe/Paris:20170906T110000
DTEND;TZID=Europe/Paris:20170906T130000
DTSTAMP:20260421T160731
CREATED:20240106T113113Z
LAST-MODIFIED:20240106T113113Z
UID:220-1504695600-1504702800@eiss-norge.no
SUMMARY:Medlemsmøte
DESCRIPTION:Program: \n  \nForedragsnotater: \nMøte 06.09.2017 Barnefamilieutvalget
URL:https://eiss-norge.no/mote/medlemsmote/
LOCATION:Fafo\, Borggata 2b
END:VEVENT
BEGIN:VEVENT
DTSTART;TZID=Europe/Paris:20170407T110000
DTEND;TZID=Europe/Paris:20170407T130000
DTSTAMP:20260421T160731
CREATED:20240107T101631Z
LAST-MODIFIED:20240107T101715Z
UID:223-1491562800-1491570000@eiss-norge.no
SUMMARY:Årsmøte 2017
DESCRIPTION:Program: \nInnkalling til årsmøte 2017 \nForedragsnotater: \nPresentasjon etterlatteytelsene EISS
URL:https://eiss-norge.no/mote/arsmote-2017/
LOCATION:Arbeids- og velferdsdirektoratet\, Sannergata 2\, Oslo
END:VEVENT
BEGIN:VEVENT
DTSTART;VALUE=DATE:20160922
DTEND;VALUE=DATE:20160924
DTSTAMP:20260421T160731
CREATED:20240107T125036Z
LAST-MODIFIED:20240107T125036Z
UID:228-1474502400-1474675199@eiss-norge.no
SUMMARY:Europeisk konferanse: Social security and the changing concept of work
DESCRIPTION:Program: \n01.09.16_Final Programme-1 \nForedragsnotater: \nVukorepa_Oslo_2016 \nConferenceChanging Work – P. Schoukens \nCornelissen_Oslo2016 \nDeBecker_Oslo2016 \nDe la Corte_Oslo2016 \nGibbon_Oslo2016 \nPulignano_Oslo2016
URL:https://eiss-norge.no/mote/europeisk-konferanse-social-security-and-the-changing-concept-of-work/
LOCATION:Universitetet i Oslo\, juridisk fakultet
END:VEVENT
BEGIN:VEVENT
DTSTART;TZID=Europe/Paris:20160401T110000
DTEND;TZID=Europe/Paris:20160401T130000
DTSTAMP:20260421T160731
CREATED:20240107T130508Z
LAST-MODIFIED:20240107T130508Z
UID:239-1459508400-1459515600@eiss-norge.no
SUMMARY:Årsmøte
DESCRIPTION:Program: \nInnkalling til årsmøte 2016 \nForedragsnotater: \nFoiler Carl-Ivar Hagen-saken \nOfTP-rapport EISS 2016 04 01
URL:https://eiss-norge.no/mote/arsmote/
LOCATION:Statens Pensjonskasse\, Verkstedveien 1\, 0277 Oslo (Skøyen)
END:VEVENT
BEGIN:VEVENT
DTSTART;TZID=Europe/Paris:20151104T130000
DTEND;TZID=Europe/Paris:20151104T160000
DTSTAMP:20260421T160731
CREATED:20240107T131058Z
LAST-MODIFIED:20240107T131058Z
UID:245-1446642000-1446652800@eiss-norge.no
SUMMARY:Boklansering: Trygd\, pensjon og EØS
DESCRIPTION:Program: \nInvitasjon til lanseringsseminar \nForedragsnotater: \nEISS_presentasjon av privat AFP \n041115_Grenseoverskridande alderdom fri flyt av pensjonar \n041115_Helsetjenester \n041115_Ikdahl_Grenseoverskridende familieliv \n041115_Program \n041115_Utbetalinger til Utland
URL:https://eiss-norge.no/mote/boklansering-trygd-pensjon-og-eos/
LOCATION:Gyldendal forlag – auditoriet
END:VEVENT
BEGIN:VEVENT
DTSTART;VALUE=DATE:20150910
DTEND;VALUE=DATE:20150911
DTSTAMP:20260421T160731
CREATED:20240107T131804Z
LAST-MODIFIED:20240107T131804Z
UID:255-1441843200-1441929599@eiss-norge.no
SUMMARY:Europeisk konferanse
DESCRIPTION:Program: \n  \nForedragsnotater: \n 
URL:https://eiss-norge.no/mote/europeisk-konferanse/
LOCATION:Wien
END:VEVENT
BEGIN:VEVENT
DTSTART;TZID=Europe/Paris:20150612T100000
DTEND;TZID=Europe/Paris:20150612T130000
DTSTAMP:20260421T160731
CREATED:20240107T180817Z
LAST-MODIFIED:20240107T180817Z
UID:258-1434103200-1434114000@eiss-norge.no
SUMMARY:AFP-ordningen i privat sektor
DESCRIPTION:Program: \nAFP \nForedragsnotater: \nEISS_presentasjon av privat AFP (1)\n(Svein Aartun Bye)
URL:https://eiss-norge.no/mote/afp-ordningen-i-privat-sektor/
LOCATION:KLP Dronning Eufemiasgate 10
END:VEVENT
BEGIN:VEVENT
DTSTART;TZID=Europe/Paris:20150313T110000
DTEND;TZID=Europe/Paris:20150313T130000
DTSTAMP:20260421T160731
CREATED:20240107T181011Z
LAST-MODIFIED:20240107T181011Z
UID:263-1426244400-1426251600@eiss-norge.no
SUMMARY:Årsmøte
DESCRIPTION:Program: \nBjørn Halvorsen \nForedragsnotater: \n 
URL:https://eiss-norge.no/mote/arsmote-2/
LOCATION:Statens Pensjonskasse\, Slemdalsveien 37 (Lille Frøen)
END:VEVENT
END:VCALENDAR